BEGIN:VCALENDAR
VERSION:2.0
PRODID:-//FDP//NONSGML Website//DE
BEGIN:VEVENT
UID:f561d0f8f262500de5483601bf22f940fdp
DTSTAMP:20260507T190000Z
DTSTART;TZID=Europe/Berlin:20260507T190000
DTEND;TZID=Europe/Berlin:20260507T200000
SUMMARY:kreisvorstand
DESCRIPTION:Vorstandssitzung FDP Kreisverband in Limburg.
LOCATION:Grabenstraße 43\, 65549 Limburg/Lahn
END:VEVENT
END:VCALENDAR